BEGIN:VCALENDAR
VERSION:2.0
PRODID:-//OsloMet - storbyuniversitetet//oslomet.no//EN
CALSCALE:GREGORIAN
BEGIN:VEVENT
STATUS:CONFIRMED
UID:12286569eba3da38054@oslomet.no
DTSTAMP:20260424T190946
DTSTART:20260521T090000
DTEND:20260522T140000
SUMMARY:OsloMet field experiments workshop 2026
DESCRIPTION:A workshop for researchers and practitioners working with field experiments\, randomized controlled trials (RCTs)\, and evidence-based policy\, hosted by the Oslo Business School at OsloMet.
X-ALT-DESC;FMTTYPE=text/html:A workshop for researchers and practitioners working with field experiments\, randomized controlled trials (RCTs)\, and evidence-based policy\, hosted by the Oslo Business School at OsloMet.
URL;VALUE=URI:https://www.oslomet.no/en/about/events/field-experiments-workshop-2026
LOCATION:Pilestredet Campus / Pilestredet 35\, Room PI559
ORGANIZER;CN=Faculty of Social Sciences / Oslo Business School:mailto:noreply@oslomet.no
BEGIN:VALARM
TRIGGER:-PT15M
ACTION:DISPLAY
END:VALARM
TRANSP:OPAQUE
END:VEVENT
END:VCALENDAR