BEGIN:VCALENDAR
VERSION:2.0
PRODID:-//OsloMet - storbyuniversitetet//oslomet.no//EN
CALSCALE:GREGORIAN
BEGIN:VEVENT
STATUS:CONFIRMED
UID:2178569e8fb2d62a22@oslomet.no
DTSTAMP:20260422T184533
DTSTART:20260527T140000
DTEND:20261027T153000
SUMMARY:Immigrant Families and Education: Navigating Belonging in Polish Schools and Society
DESCRIPTION:Guest lecturer Elżbieta M. Goździak will present key insights from her forthcoming book on belonging and exclusion among migrant children in Polish primary and secondary schools.
X-ALT-DESC;FMTTYPE=text/html:Guest lecturer Elżbieta M. Goździak will present key insights from her forthcoming book on belonging and exclusion among migrant children in Polish primary and secondary schools.
URL;VALUE=URI:https://www.oslomet.no/en/about/events/immigrant-families-education-belonging-polish-schools-society
LOCATION:Pilestredet Campus / P48-S141
ORGANIZER;CN=Norwegian Social Research:mailto:noreply@oslomet.no
BEGIN:VALARM
TRIGGER:-PT15M
ACTION:DISPLAY
END:VALARM
TRANSP:OPAQUE
END:VEVENT
END:VCALENDAR