BEGIN:VCALENDAR
VERSION:2.0
PRODID:-//OsloMet - storbyuniversitetet//oslomet.no//EN
CALSCALE:GREGORIAN
BEGIN:VEVENT
STATUS:CONFIRMED
UID:8178569ea678427f8e@oslomet.no
DTSTAMP:20260423T204004
DTSTART:20261210T090000
DTEND:20261211T170000
SUMMARY:InDialog 5: The technological turn and public service translation and interpreting: challenges and opportunities
DESCRIPTION:Join the fifth edition of the InDialog conference to explore central themes at the intersection of technology and public service translation and interpreting.
X-ALT-DESC;FMTTYPE=text/html:Join the fifth edition of the InDialog conference to explore central themes at the intersection of technology and public service translation and interpreting.
URL;VALUE=URI:https://www.oslomet.no/en/about/events/indialog-5
LOCATION:Pilestredet Campus
ORGANIZER;CN=Faculty of Education and International Studies / Department of International Studies and Interpreting:mailto:noreply@oslomet.no
BEGIN:VALARM
TRIGGER:-PT15M
ACTION:DISPLAY
END:VALARM
TRANSP:OPAQUE
END:VEVENT
END:VCALENDAR