BEGIN:VCALENDAR
VERSION:2.0
PRODID:-//OsloMet - storbyuniversitetet//oslomet.no//EN
CALSCALE:GREGORIAN
BEGIN:VEVENT
STATUS:CONFIRMED
UID:3702369eccc8c035e6@oslomet.no
DTSTAMP:20260425T161540
DTSTART:20261126T090000
DTEND:20261127T160000
SUMMARY:NORKOM conference 2026
DESCRIPTION:NORKOM brings together the full range of Nordic research on local government.
X-ALT-DESC;FMTTYPE=text/html:NORKOM brings together the full range of Nordic research on local government.
URL;VALUE=URI:https://www.oslomet.no/en/about/events/norkom-2026
LOCATION:Pilestredet Campus / Pilestredet 46\, Athene 1 and 2
ORGANIZER;CN=Faculty of Social Sciences / Oslo Business School:mailto:noreply@oslomet.no
BEGIN:VALARM
TRIGGER:-PT15M
ACTION:DISPLAY
END:VALARM
TRANSP:OPAQUE
END:VEVENT
END:VCALENDAR