BEGIN:VCALENDAR
VERSION:2.0
PRODID:-//OsloMet - storbyuniversitetet//oslomet.no//NO
CALSCALE:GREGORIAN
BEGIN:VEVENT
STATUS:CONFIRMED
UID:43507669e4d68a15b80@oslomet.no
DTSTAMP:20260419T152010
DTSTART:20260428T083000
DTEND:20260428T113000
SUMMARY:Fagdag 4 for veiledere av nyutdannede lærere i barnehagen og skolen
DESCRIPTION:Mangfold i skole og barnehage stiller nye krav til ansatte og veiledere. På denne fagdagen settes flerkulturell kompetanse\, etisk refleksjon og veiledning av nyutdannede på agendaen\, med dialog og erfaringsutveksling som sentrale verktøy.
X-ALT-DESC;FMTTYPE=text/html:Mangfold i skole og barnehage stiller nye krav til ansatte og veiledere. På denne fagdagen settes flerkulturell kompetanse\, etisk refleksjon og veiledning av nyutdannede på agendaen\, med dialog og erfaringsutveksling som sentrale verktøy.
URL;VALUE=URI:https://www.oslomet.no/no/om/arrangement/fagdag4-veiledning-nyutdannede-barnehagen-skolen
LOCATION:Pilestredet\, Oslo / Pilestredet 46\, rom PA318 (3. etasje)
ORGANIZER;CN=Fakultet for lærerutdanning og internasjonale studier / Institutt for barnehagelærerutdanning / Institutt for grunnskole- og faglærerutdanning:mailto:noreply@oslomet.no
BEGIN:VALARM
TRIGGER:-PT15M
ACTION:DISPLAY
END:VALARM
TRANSP:OPAQUE
END:VEVENT
END:VCALENDAR