BEGIN:VCALENDAR
VERSION:2.0
PRODID:-//OsloMet - storbyuniversitetet//oslomet.no//NO
CALSCALE:GREGORIAN
BEGIN:VEVENT
STATUS:CONFIRMED
UID:6295269ecad76ae7ea@oslomet.no
DTSTAMP:20260425T140302
DTSTART:20260508T083000
DTEND:20260508T150000
SUMMARY:Kunst- og håndverkskonferansen 2026
DESCRIPTION:Vi inviterer til en konferanse for lærere i kunst og håndverk\, samt alle som arbeider med skole\, kunst og kultur i opplæring og formidling.
X-ALT-DESC;FMTTYPE=text/html:Vi inviterer til en konferanse for lærere i kunst og håndverk\, samt alle som arbeider med skole\, kunst og kultur i opplæring og formidling.
URL;VALUE=URI:https://www.oslomet.no/no/om/arrangement/kunst-og-handverkskonferansen-2026
LOCATION:Pilestredet\, Oslo / Pilestredet 46\, Athene 1 og 2
ORGANIZER;CN=Institutt for estetiske fag / Fakultet for teknologi\, kunst og design:mailto:noreply@oslomet.no
BEGIN:VALARM
TRIGGER:-PT15M
ACTION:DISPLAY
END:VALARM
TRANSP:OPAQUE
END:VEVENT
END:VCALENDAR