BEGIN:VCALENDAR
VERSION:2.0
PRODID:-//OsloMet - storbyuniversitetet//oslomet.no//NO
CALSCALE:GREGORIAN
BEGIN:VEVENT
STATUS:CONFIRMED
UID:1462769e8a8f679c3e@oslomet.no
DTSTAMP:20260422T125446
DTSTART:20260526T160000
DTEND:20260526T173000
SUMMARY:Boklansering: Ledelse av kompetanseutvikling og veiledning i barnehagen
DESCRIPTION:Hvordan kan eiere og styrere sammen styrke kvaliteten i barnehagen? Boka ledelse av kompetanseutvikling og veiledning i barnehagen gir kunnskap\, praktiske eksempler og konkrete verktøy for å utvikle barnehagen som lærende organisasjon.
X-ALT-DESC;FMTTYPE=text/html:Hvordan kan eiere og styrere sammen styrke kvaliteten i barnehagen? Boka ledelse av kompetanseutvikling og veiledning i barnehagen gir kunnskap\, praktiske eksempler og konkrete verktøy for å utvikle barnehagen som lærende organisasjon.
URL;VALUE=URI:https://www.oslomet.no/om/arrangement/boklansering-ledelse-kompetanseutvikling-veiledning-barnehagen
LOCATION:Pilestredet\, Oslo / P46\, rom 318 i KK senteret
ORGANIZER;CN=Fakultet for lærerutdanning og internasjonale studier / Institutt for barnehagelærerutdanning:mailto:noreply@oslomet.no
BEGIN:VALARM
TRIGGER:-PT15M
ACTION:DISPLAY
END:VALARM
TRANSP:OPAQUE
END:VEVENT
END:VCALENDAR