BEGIN:VCALENDAR
VERSION:2.0
PRODID:-//OsloMet - storbyuniversitetet//oslomet.no//NO
CALSCALE:GREGORIAN
BEGIN:VEVENT
STATUS:CONFIRMED
UID:10221869eb7fed473c0@oslomet.no
DTSTAMP:20260424T163629
DTSTART:20260513T080000
DTEND:20260513T090000
SUMMARY:Frokostmøte: "Hvem eier fremtidens demokrati?"
DESCRIPTION:Vi diskuterer vilkårene for demokratiet i en tid der globale tech-selskaper og algoritmer påvirker oss stadig mer. Hvordan skal de unge ta makten tilbake? Hvem setter premissene for hva som fremstår som sant\, viktig og mulig?
X-ALT-DESC;FMTTYPE=text/html:Vi diskuterer vilkårene for demokratiet i en tid der globale tech-selskaper og algoritmer påvirker oss stadig mer. Hvordan skal de unge ta makten tilbake? Hvem setter premissene for hva som fremstår som sant\, viktig og mulig?
URL;VALUE=URI:https://www.oslomet.no/om/arrangement/hvem-eier-fremtidens-demokrati
LOCATION:Pilestredet\, Oslo / OsloMet campus Pilestredet 44\, Fyrhuset
ORGANIZER;CN=OsloMet:mailto:noreply@oslomet.no
BEGIN:VALARM
TRIGGER:-PT15M
ACTION:DISPLAY
END:VALARM
TRANSP:OPAQUE
END:VEVENT
END:VCALENDAR