BEGIN:VCALENDAR
VERSION:2.0
PRODID:-//OsloMet - storbyuniversitetet//oslomet.no//NO
CALSCALE:GREGORIAN
BEGIN:VEVENT
STATUS:CONFIRMED
UID:59496169e8e83f0eee9@oslomet.no
DTSTAMP:20260422T172447
DTSTART:20260527T140000
DTEND:20260506T153000
SUMMARY:Innvandrerfamilier og utdanning: Om å skape tilhørighet i møte med polsk skole og samfunn
DESCRIPTION:Elżbieta M. Goździak presenterer sentrale funn fra sin kommende bok om tilhørighet og utenforskap blant barn med innvandrerbakgrunn i polske grunn- og videregående skoler.
X-ALT-DESC;FMTTYPE=text/html:Elżbieta M. Goździak presenterer sentrale funn fra sin kommende bok om tilhørighet og utenforskap blant barn med innvandrerbakgrunn i polske grunn- og videregående skoler.
URL;VALUE=URI:https://www.oslomet.no/om/arrangement/innvandrerfamilier-utdanning-tilhoerighet-polske-skoler-samfunn
LOCATION:Pilestredet\, Oslo / P48-S141
ORGANIZER;CN=Eksterne partnere / Velferdsforskningsinstituttet NOVA:mailto:noreply@oslomet.no
BEGIN:VALARM
TRIGGER:-PT15M
ACTION:DISPLAY
END:VALARM
TRANSP:OPAQUE
END:VEVENT
END:VCALENDAR