BEGIN:VCALENDAR
VERSION:2.0
PRODID:-//OsloMet - storbyuniversitetet//oslomet.no//NO
CALSCALE:GREGORIAN
BEGIN:VEVENT
STATUS:CONFIRMED
UID:4015069e52805246fa@oslomet.no
DTSTAMP:20260419T210749
DTSTART:20260504T083000
DTEND:20260504T111500
SUMMARY:Frokostmøte: Den internasjonale dagen for pressefrihet
DESCRIPTION:Institutt for journalistikk og mediefag markerer Verdens pressefrihetsdag med et frokostmøte om pressefrihet både i Norge og i den øvrige verden.
X-ALT-DESC;FMTTYPE=text/html:Institutt for journalistikk og mediefag markerer Verdens pressefrihetsdag med et frokostmøte om pressefrihet både i Norge og i den øvrige verden.
URL;VALUE=URI:https://www.oslomet.no/om/arrangement/internasjonale-dagen-pressefrihet
LOCATION:Pilestredet\, Oslo / Pilestredet 32\, rom N010.023
ORGANIZER;CN=Fakultet for samfunnsvitenskap / Institutt for journalistikk og mediefag:mailto:noreply@oslomet.no
BEGIN:VALARM
TRIGGER:-PT15M
ACTION:DISPLAY
END:VALARM
TRANSP:OPAQUE
END:VEVENT
END:VCALENDAR