BEGIN:VCALENDAR
VERSION:2.0
PRODID:-//OsloMet - storbyuniversitetet//oslomet.no//NO
CALSCALE:GREGORIAN
BEGIN:VEVENT
STATUS:CONFIRMED
UID:40170369e65c3274c57@oslomet.no
DTSTAMP:20260420T190242
DTSTART:20260511T130000
DTEND:20260511T140000
SUMMARY:LUI-lab: Digitaliseringens paradoks: Hvordan forberede barn og unge på en digital framtid med mindre skjerm?
DESCRIPTION:Hvordan skal vi forberede neste generasjon på å leve\, lære og arbeide i et stadig mer digitalisert samfunn – samtidig som vi begrenser deres digitale erfaringer? Vi inviterer til en kritisk samtale.
X-ALT-DESC;FMTTYPE=text/html:Hvordan skal vi forberede neste generasjon på å leve\, lære og arbeide i et stadig mer digitalisert samfunn – samtidig som vi begrenser deres digitale erfaringer? Vi inviterer til en kritisk samtale.
URL;VALUE=URI:https://www.oslomet.no/om/arrangement/lui-lab-digitaliseringens-paradoks
LOCATION:Pilestredet\, Oslo / Pilestredet 48\, Biblioteket\, 1. etasje
ORGANIZER;CN=Fakultet for lærerutdanning og internasjonale studier / Institutt for grunnskole- og faglærerutdanning:mailto:noreply@oslomet.no
BEGIN:VALARM
TRIGGER:-PT15M
ACTION:DISPLAY
END:VALARM
TRANSP:OPAQUE
END:VEVENT
END:VCALENDAR