BEGIN:VCALENDAR
VERSION:2.0
PRODID:-//OsloMet - storbyuniversitetet//oslomet.no//NO
CALSCALE:GREGORIAN
BEGIN:VEVENT
STATUS:CONFIRMED
UID:1993669eb9d3d2a05f@oslomet.no
DTSTAMP:20260424T184133
DTSTART:20260521T140000
DTEND:20260521T153000
SUMMARY:Maskulinitetsidealer i endring i Pakistan - og Norge
DESCRIPTION:Hvordan påvirker globale likestillingsidealer pakistanske mannsroller i Pakistan? Hvordan former pakistansk og norsk kontekst menns liv og familierelasjoner på forskjellige måter?
X-ALT-DESC;FMTTYPE=text/html:Hvordan påvirker globale likestillingsidealer pakistanske mannsroller i Pakistan? Hvordan former pakistansk og norsk kontekst menns liv og familierelasjoner på forskjellige måter?
URL;VALUE=URI:https://www.oslomet.no/om/arrangement/maskulinitet_i_pakistan
LOCATION:Athene 1\, Pilestredet 46\, Oslo
ORGANIZER;CN=Velferdsforskningsinstituttet NOVA / OsloMet:mailto:noreply@oslomet.no
BEGIN:VALARM
TRIGGER:-PT15M
ACTION:DISPLAY
END:VALARM
TRANSP:OPAQUE
END:VEVENT
END:VCALENDAR