BEGIN:VCALENDAR
VERSION:2.0
PRODID:-//OsloMet - storbyuniversitetet//oslomet.no//NO
CALSCALE:GREGORIAN
BEGIN:VEVENT
STATUS:CONFIRMED
UID:17550469ecb65192575@oslomet.no
DTSTAMP:20260425T144049
DTSTART:20261126T090000
DTEND:20261127T160000
SUMMARY:NORKOM-konferansen 2026
DESCRIPTION:NORKOM er en konferanse som samler bredden i nordisk kommuneforskning.
X-ALT-DESC;FMTTYPE=text/html:NORKOM er en konferanse som samler bredden i nordisk kommuneforskning.
URL;VALUE=URI:https://www.oslomet.no/om/arrangement/norkom-2026
LOCATION:Pilestredet\, Oslo / Pilestredet 46\, Athene 1 og 2
ORGANIZER;CN=Fakultet for samfunnsvitenskap / Handelshøyskolen:mailto:noreply@oslomet.no
BEGIN:VALARM
TRIGGER:-PT15M
ACTION:DISPLAY
END:VALARM
TRANSP:OPAQUE
END:VEVENT
END:VCALENDAR