BEGIN:VCALENDAR
VERSION:2.0
PRODID:-//OsloMet - storbyuniversitetet//oslomet.no//NO
CALSCALE:GREGORIAN
BEGIN:VEVENT
STATUS:CONFIRMED
UID:9783969ecf202ee012@oslomet.no
DTSTAMP:20260425T185530
DTSTART:20260507T080000
DTEND:20260507T090000
SUMMARY:Frokostmøte om Oslos første studentplan
DESCRIPTION:Byrådet har lagt frem forslag til den første helhetlige planen for Oslo som studentby. Er planen treffsikker? Velkommen til debatt!
X-ALT-DESC;FMTTYPE=text/html:Byrådet har lagt frem forslag til den første helhetlige planen for Oslo som studentby. Er planen treffsikker? Velkommen til debatt!
URL;VALUE=URI:https://www.oslomet.no/om/arrangement/oslos-forste-studentplan
LOCATION:Pilestredet\, Oslo / Fyrhuset\, Pilestredet 44\, OsloMet
ORGANIZER;CN=OsloMet:mailto:noreply@oslomet.no
BEGIN:VALARM
TRIGGER:-PT15M
ACTION:DISPLAY
END:VALARM
TRANSP:OPAQUE
END:VEVENT
END:VCALENDAR