BEGIN:VCALENDAR
VERSION:2.0
PRODID:-//OsloMet - storbyuniversitetet//oslomet.no//NO
CALSCALE:GREGORIAN
BEGIN:VEVENT
STATUS:CONFIRMED
UID:7816169ea5a746c2c5@oslomet.no
DTSTAMP:20260423T194420
DTSTART:20260526T120000
DTEND:20260526T133000
SUMMARY:Seminar med utviklingsminister Åsmund Aukrust: Hvilke bistandskanaler gir best effekt?
DESCRIPTION:Norge bruker milliarder på bistand gjennom et mangfold av kanaler som gir både innflytelse og resultater\, men også fragmentering og uklare effekter. Vi spør: Hvordan kan vi organisere bistanden bedre\, og hva er merverdien av ulike kanaler?
X-ALT-DESC;FMTTYPE=text/html:Norge bruker milliarder på bistand gjennom et mangfold av kanaler som gir både innflytelse og resultater\, men også fragmentering og uklare effekter. Vi spør: Hvordan kan vi organisere bistanden bedre\, og hva er merverdien av ulike kanaler?
URL;VALUE=URI:https://www.oslomet.no/om/arrangement/seminar-hvilke-bistandskanaler
LOCATION:Pilestredet\, Oslo / S141\, Gerd Wangs auditorium\, Pilestredet 48
ORGANIZER;CN=:mailto:noreply@oslomet.no
BEGIN:VALARM
TRIGGER:-PT15M
ACTION:DISPLAY
END:VALARM
TRANSP:OPAQUE
END:VEVENT
END:VCALENDAR