BEGIN:VCALENDAR
VERSION:2.0
PRODID:-//OsloMet - storbyuniversitetet//oslomet.no//NO
CALSCALE:GREGORIAN
BEGIN:VEVENT
STATUS:CONFIRMED
UID:7435169eb92d606712@oslomet.no
DTSTAMP:20260424T175710
DTSTART:20260521T090000
DTEND:20260522T140000
SUMMARY:OsloMets workshop for felteksperimenter
DESCRIPTION:Handelshøyskolen ved OsloMet inviterer til en akademisk workshop for alle som jobber med felteksperimenter\, randomiserte kontrollerte studier (RCT-er) og evidensbasert politikk.
X-ALT-DESC;FMTTYPE=text/html:Handelshøyskolen ved OsloMet inviterer til en akademisk workshop for alle som jobber med felteksperimenter\, randomiserte kontrollerte studier (RCT-er) og evidensbasert politikk.
URL;VALUE=URI:https://www.oslomet.no/om/arrangement/workshop-felteksperimenter
LOCATION:Pilestredet\, Oslo / Pilestredet 35\, rom PI559
ORGANIZER;CN=Fakultet for samfunnsvitenskap / Handelshøyskolen:mailto:noreply@oslomet.no
BEGIN:VALARM
TRIGGER:-PT15M
ACTION:DISPLAY
END:VALARM
TRANSP:OPAQUE
END:VEVENT
END:VCALENDAR